<?xml version="1.0" encoding="UTF-8" standalone="no"?>
<metadata xml:lang="zh">
<Esri>
<CreaDate>20201008</CreaDate>
<CreaTime>16574600</CreaTime>
<ArcGISFormat>1.0</ArcGISFormat>
<SyncOnce>FALSE</SyncOnce>
<DataProperties>
<lineage>
<Process Date="20201008" Time="165746" ToolSource="c:\program files (x86)\arcgis\desktop10.8\ArcToolbox\Toolboxes\Spatial Analyst Tools.tbx\TopoToRaster">TopoToRaster "D:\LiMing\JhuokouCreek\GIS\JhuokouCreek.gdb\CAD_測量輪廓線_等高線_河道整理 FixedElv Contour;D:\LiMing\JhuokouCreek\GIS\JhuokouCreek.gdb\CAD_測量高程點_河道整理 FixedElev PointElevation" D:\LiMing\JhuokouCreek\GIS\JhuokouCreek.gdb\DTM_bySurvey_Fixed_Topo_1m 1 "213664.8419 2530491.4607 214286.8419 2531112.4607" 20 # # NO_ENFORCE CONTOUR 20 # 1 0 2.5 100 # # # # # # # #</Process>
<Process Date="20201008" Time="205950" ToolSource="c:\program files (x86)\arcgis\desktop10.8\ArcToolbox\Toolboxes\Data Management Tools.tbx\Resample">Resample DTM_bySurvey_Fixed_Topo_1m D:\LiMing\JhuokouCreek\GIS\JhuokouCreek.gdb\DTM_bySurvey_Fixed_Topo_0p05m "0.05 0.05" BILINEAR</Process>
</lineage>
<itemProps>
<itemName Sync="TRUE">DTM_bySurvey_Fixed_Topo_0p05m</itemName>
<imsContentType Sync="TRUE">002</imsContentType>
<nativeExtBox>
<westBL Sync="TRUE">213664.841900</westBL>
<eastBL Sync="TRUE">214286.841900</eastBL>
<southBL Sync="TRUE">2530491.460700</southBL>
<northBL Sync="TRUE">2531112.460700</northBL>
<exTypeCode Sync="TRUE">1</exTypeCode>
</nativeExtBox>
<itemLocation>
<linkage Sync="TRUE">file://\\PC299\D$\LiMing\JhuokouCreek\GIS\JhuokouCreek.gdb</linkage>
<protocol Sync="TRUE">Local Area Network</protocol>
</itemLocation>
</itemProps>
<coordRef>
<type Sync="TRUE">Projected</type>
<geogcsn Sync="TRUE">GCS_TWD_1997</geogcsn>
<csUnits Sync="TRUE">Linear Unit: Meter (1.000000)</csUnits>
<projcsn Sync="TRUE">TWD_1997_TM_Taiwan</projcsn>
<peXml Sync="TRUE">&lt;ProjectedCoordinateSystem xsi:type='typens:ProjectedCoordinateSystem' xmlns:xsi='http://www.w3.org/2001/XMLSchema-instance' xmlns:xs='http://www.w3.org/2001/XMLSchema' xmlns:typens='http://www.esri.com/schemas/ArcGIS/10.7'&gt;&lt;WKT&gt;PROJCS[&amp;quot;TWD_1997_TM_Taiwan&amp;quot;,GEOGCS[&amp;quot;GCS_TWD_1997&amp;quot;,DATUM[&amp;quot;D_TWD_1997&amp;quot;,SPHEROID[&amp;quot;GRS_1980&amp;quot;,6378137.0,298.257222101]],PRIMEM[&amp;quot;Greenwich&amp;quot;,0.0],UNIT[&amp;quot;Degree&amp;quot;,0.0174532925199433]],PROJECTION[&amp;quot;Transverse_Mercator&amp;quot;],PARAMETER[&amp;quot;False_Easting&amp;quot;,250000.0],PARAMETER[&amp;quot;False_Northing&amp;quot;,0.0],PARAMETER[&amp;quot;Central_Meridian&amp;quot;,121.0],PARAMETER[&amp;quot;Scale_Factor&amp;quot;,0.9999],PARAMETER[&amp;quot;Latitude_Of_Origin&amp;quot;,0.0],UNIT[&amp;quot;Meter&amp;quot;,1.0],AUTHORITY[&amp;quot;EPSG&amp;quot;,3826]]&lt;/WKT&gt;&lt;XOrigin&gt;-5372600&lt;/XOrigin&gt;&lt;YOrigin&gt;-10001100&lt;/YOrigin&gt;&lt;XYScale&gt;450310428.58990461&lt;/XYScale&gt;&lt;ZOrigin&gt;-929.343894906728&lt;/ZOrigin&gt;&lt;ZScale&gt;4194304001953.124&lt;/ZScale&gt;&lt;MOrigin&gt;-100000&lt;/MOrigin&gt;&lt;MScale&gt;10000&lt;/MScale&gt;&lt;XYTolerance&gt;0.001&lt;/XYTolerance&gt;&lt;ZTolerance&gt;0.001&lt;/ZTolerance&gt;&lt;MTolerance&gt;0.001&lt;/MTolerance&gt;&lt;HighPrecision&gt;true&lt;/HighPrecision&gt;&lt;WKID&gt;102443&lt;/WKID&gt;&lt;LatestWKID&gt;3826&lt;/LatestWKID&gt;&lt;/ProjectedCoordinateSystem&gt;</peXml>
</coordRef>
</DataProperties>
<SyncDate>20201008</SyncDate>
<SyncTime>20594100</SyncTime>
<ModDate>20201008</ModDate>
<ModTime>20594100</ModTime>
</Esri>
<dataIdInfo>
<envirDesc Sync="TRUE"> Version 6.2 (Build 9200) ; Esri ArcGIS 10.8.0.12790</envirDesc>
<dataLang>
<languageCode Sync="TRUE" value="zho"/>
<countryCode Sync="TRUE" value="TWN"/>
</dataLang>
<idCitation>
<resTitle Sync="TRUE">大津進水口【3D全球場景】_WEL2</resTitle>
<presForm>
<PresFormCd Sync="TRUE" value="011"/>
</presForm>
</idCitation>
<spatRpType>
<SpatRepTypCd Sync="TRUE" value="002"/>
</spatRpType>
<dataExt>
<geoEle>
<GeoBndBox esriExtentType="search">
<exTypeCode Sync="TRUE">1</exTypeCode>
<westBL Sync="TRUE">120.645865</westBL>
<eastBL Sync="TRUE">120.651942</eastBL>
<northBL Sync="TRUE">22.880677</northBL>
<southBL Sync="TRUE">22.875056</southBL>
</GeoBndBox>
</geoEle>
</dataExt>
<idAbs/>
<searchKeys>
<keyword>大津</keyword>
<keyword>取水工</keyword>
</searchKeys>
<idPurp>大津進水口【3D全球場景】</idPurp>
<idCredit/>
<resConst>
<Consts>
<useLimit/>
</Consts>
</resConst>
</dataIdInfo>
<mdLang>
<languageCode Sync="TRUE" value="zho"/>
<countryCode Sync="TRUE" value="TWN"/>
</mdLang>
<distInfo>
<distFormat>
<formatName Sync="TRUE">File Geodatabase Raster Dataset</formatName>
</distFormat>
</distInfo>
<mdHrLv>
<ScopeCd Sync="TRUE" value="005"/>
</mdHrLv>
<mdHrLvName Sync="TRUE">dataset</mdHrLvName>
<refSysInfo>
<RefSystem>
<refSysID>
<identCode Sync="TRUE" code="3826"/>
<idCodeSpace Sync="TRUE">EPSG</idCodeSpace>
<idVersion Sync="TRUE">6.18(10.1.0)</idVersion>
</refSysID>
</RefSystem>
</refSysInfo>
<spdoinfo>
<rastinfo>
<rasttype Sync="TRUE">Pixel</rasttype>
<rowcount Sync="TRUE">12420</rowcount>
<colcount Sync="TRUE">12440</colcount>
<rastxsz Sync="TRUE">0.050000</rastxsz>
<rastysz Sync="TRUE">0.050000</rastysz>
<rastbpp Sync="TRUE">32</rastbpp>
<vrtcount Sync="TRUE">1</vrtcount>
<rastorig Sync="TRUE">Upper Left</rastorig>
<rastcmap Sync="TRUE">FALSE</rastcmap>
<rastcomp Sync="TRUE">LZ77</rastcomp>
<rastband Sync="TRUE">1</rastband>
<rastdtyp Sync="TRUE">pixel codes</rastdtyp>
<rastifor Sync="TRUE">FGDBR</rastifor>
<rastplyr Sync="TRUE">TRUE</rastplyr>
</rastinfo>
</spdoinfo>
<spref>
<horizsys>
<planar>
<planci>
<plance Sync="TRUE">row and column</plance>
<coordrep>
<absres Sync="TRUE">0.050000</absres>
<ordres Sync="TRUE">0.050000</ordres>
</coordrep>
</planci>
</planar>
</horizsys>
</spref>
<mdDateSt Sync="TRUE">20201008</mdDateSt>
</metadata>
